BEGIN:VCALENDAR
VERSION:2.0
PRODID:-//Cultuur in de Schuur - ECPv6.0.10//NONSGML v1.0//EN
CALSCALE:GREGORIAN
METHOD:PUBLISH
X-ORIGINAL-URL:https://www.cultuurindeschuur.nl
X-WR-CALDESC:Evenementen voor Cultuur in de Schuur
REFRESH-INTERVAL;VALUE=DURATION:PT1H
X-Robots-Tag:noindex
X-PUBLISHED-TTL:PT1H
BEGIN:VTIMEZONE
TZID:Europe/Paris
BEGIN:DAYLIGHT
TZOFFSETFROM:+0100
TZOFFSETTO:+0200
TZNAME:CEST
DTSTART:20160327T010000
END:DAYLIGHT
BEGIN:STANDARD
TZOFFSETFROM:+0200
TZOFFSETTO:+0100
TZNAME:CET
DTSTART:20161030T010000
END:STANDARD
END:VTIMEZONE
BEGIN:VEVENT
DTSTART;TZID=Europe/Paris:20161113T141500
DTEND;TZID=Europe/Paris:20161113T163000
DTSTAMP:20260420T104507
CREATED:20160810T192116Z
LAST-MODIFIED:20160810T193145Z
UID:563-1479046500-1479054600@www.cultuurindeschuur.nl
SUMMARY:TreSonanZ: Schetsen voor Vermeer
DESCRIPTION:Christina Völtl\, sopraan – Natascha Morsink\, mezzo sopraan – Andrew Clark\, piano\nTreSonanZ brengt: Schetsen voor Vermeer\n   \nKoffie/thee vanaf 14.00 uur – Aanvang concert 14.30 uur\n \nHet programma Schetsen voor Vermeer \nis geinspireerd op het schilderij ‘Het Straatje’ van Vermeer. TreSonanz zet een muzikale schijnwerper en vergrootglas op de details van dit juweeltje uit de Gouden Eeuw: ‘The Little Street’ kan nu ook ineens gehoord worden!\nLuister bv. eens naar de oude vrouw in de deuropening die verdiept is in haar handwerk. Waar is zij met haar gedachten? Wat spelen de kinderen daar onder die bank? Zie ik nou een bezem daar in de ‘penspoort’? Hoe klinkt een Hollandse wolkenlucht? En mogen we misschien ook even gluren achter die dichte luiken?? \nTreSonanz zingt en speelt wereldlijke a cappella duetten van o.a. Sweelinck\, Caccini\, Monteverdi\, Sol\, een nieuwe compositie en een bewerking van ‘Nuages’ (Debussy) van huiscomponist Andrew Clark.\nLaat je fantasie de vrije loop tijdens dit theatrale concert met originele\, humoristische theatrale vondsten\, los het raadsel op van de schunnige ‘Catch’ van Purcell en kom luisteren naar de freule van Roetsfiedelee die komt spelen op haar spinet! En net als gebruikelijk was in de tijd van Vermeer zal het geen formeel klassiek concert worden\, maar een kleinschalige belevenis tussen de schuifdeuren met een levendige interactie tussen musici en publiek.\nGeheel in die traditie nodigen we uw uit in onze Schöppe voor een voorstelling op de drempel tussen concert en muziektheater met originele en vaak humoristische theatrale vondsten. Hoor\, kijk\, luister en huiver! \nChristina\, Natascha & Andrew traden eerder met veel succes op bij Muziek op De Welle met hun programma: In Sneltreinvaart over de Vocale routekaart \nWilt u al een beetje in de stemming komen? Klik dan HIER
URL:https://www.cultuurindeschuur.nl/concertagenda/tresonanz-schetsen-vermeer/
LOCATION:Muziek op de Welle\, Oude Borculoseweg 7\, Markelo\, Overijssel\, 7475NE\, Nederland
ORGANIZER;CN="Muziek%20op%20De%20Welle":MAILTO:info@muziekopdewelle.nl
END:VEVENT
END:VCALENDAR